BEGIN:VCALENDAR
VERSION:2.0
PRODID:-//Audimation
CALSCALE:GREGORIAN
METHOD:PUBLISH
X-WR-CALNAME:Audimation
X-ORIGINAL-URL:https://www.audimation.com/training/onpoint-audit-intro/
X-WR-CALDESC:Introduction to OnPoint Audit
BEGIN:VEVENT
DTSTART:20250521T080000
DTEND:20250521T120000
SUMMARY:Introduction to OnPoint Audit
DESCRIPTION:
URL:https://www.audimation.com/training/onpoint-audit-intro/
LOCATION:Live Online | 8:00 AM Central
END:VEVENT
END:VCALENDAR
