BEGIN:VCALENDAR
VERSION:2.0
PRODID:-//Audimation
CALSCALE:GREGORIAN
METHOD:PUBLISH
X-WR-CALNAME:Audimation
X-ORIGINAL-URL:https://www.audimation.com/training/ci101-idea-data-analysis-level-1-t-190507/
X-WR-CALDESC:CI101: IDEA Data Analysis Level 1
BEGIN:VEVENT
DTSTART:20190507T083000
DTEND:20190508T163000
SUMMARY:CI101: IDEA Data Analysis Level 1
DESCRIPTION:Where does this show? What does this look like when setup?
URL:https://www.audimation.com/training/ci101-idea-data-analysis-level-1-t-190507/
LOCATION:Courtyard Arlington Crystal/Reagan Nat'l Airport, 2899 Old Jefferson Davis Highway, Arlington, VA 22202
END:VEVENT
END:VCALENDAR
