BEGIN:VCALENDAR
VERSION:2.0
PRODID:-//Audimation
CALSCALE:GREGORIAN
METHOD:PUBLISH
X-WR-CALNAME:Audimation
X-ORIGINAL-URL:https://www.audimation.com/training/ci102-idea-data-analysis-level-2-t-190501/
X-WR-CALDESC:CI102: IDEA Data Analysis Level 2
BEGIN:VEVENT
DTSTART:20190501T093000
DTEND:20190502T173000
SUMMARY:CI102: IDEA Data Analysis Level 2
DESCRIPTION:Where does this show? What does this look like when setup?
URL:https://www.audimation.com/training/ci102-idea-data-analysis-level-2-t-190501/
LOCATION:Live Online | Central Time
END:VEVENT
END:VCALENDAR
