BEGIN:VCALENDAR
VERSION:2.0
PRODID:-//Audimation
CALSCALE:GREGORIAN
METHOD:PUBLISH
X-WR-CALNAME:Audimation
X-ORIGINAL-URL:https://www.audimation.com/training/introduction-to-idea-ws-191106/
X-WR-CALDESC:Introduction to IDEA
BEGIN:VEVENT
DTSTART:20191106T130000
DTEND:20191106T163000
SUMMARY:Introduction to IDEA
DESCRIPTION:
URL:https://www.audimation.com/training/introduction-to-idea-ws-191106/
LOCATION:Live Online | Central Time
END:VEVENT
END:VCALENDAR
