BEGIN:VCALENDAR
VERSION:2.0
PRODID:-//Audimation
CALSCALE:GREGORIAN
METHOD:PUBLISH
X-WR-CALNAME:Audimation
X-ORIGINAL-URL:https://www.audimation.com/training/as205-building-complex-equations-ws-20210923/
X-WR-CALDESC:AS205: Building Complex Equations
BEGIN:VEVENT
DTSTART:20210923T100000
DTEND:20210923T140000
SUMMARY:AS205: Building Complex Equations
DESCRIPTION:
URL:https://www.audimation.com/training/as205-building-complex-equations-ws-20210923/
LOCATION:Live Online | 10:00 AM Central
END:VEVENT
END:VCALENDAR
