BEGIN:VCALENDAR
VERSION:2.0
PRODID:-//Audimation
CALSCALE:GREGORIAN
METHOD:PUBLISH
X-WR-CALNAME:Audimation
X-ORIGINAL-URL:https://www.audimation.com/training/ci102-idea-data-analysis-level-2-master-2/
X-WR-CALDESC:CI102: IDEA Data Analysis Level 2
BEGIN:VEVENT
DTSTART:20220125T083000
DTEND:20220126T163000
SUMMARY:CI102: IDEA Data Analysis Level 2
DESCRIPTION:
URL:https://www.audimation.com/training/ci102-idea-data-analysis-level-2-master-2/
LOCATION:Live Online | 8:30 AM Central
END:VEVENT
END:VCALENDAR
