BEGIN:VCALENDAR
VERSION:2.0
PRODID:-//Audimation
CALSCALE:GREGORIAN
METHOD:PUBLISH
X-WR-CALNAME:Audimation
X-ORIGINAL-URL:https://www.audimation.com/training/as250-analyzing-travel-expense-fraud-in-idea/
X-WR-CALDESC:AS250: Analyzing Travel &#038; Expense Fraud in IDEA
BEGIN:VEVENT
DTSTART:20220324T100000
DTEND:20220324T140000
SUMMARY:AS250: Analyzing Travel &#038; Expense Fraud in IDEA
DESCRIPTION:
URL:https://www.audimation.com/training/as250-analyzing-travel-expense-fraud-in-idea/
LOCATION:Live Online | 10:00 AM Central
END:VEVENT
END:VCALENDAR
