BEGIN:VCALENDAR
VERSION:2.0
PRODID:-//Audimation
CALSCALE:GREGORIAN
METHOD:PUBLISH
X-WR-CALNAME:Audimation
X-ORIGINAL-URL:https://www.audimation.com/training/ci101-francais-02152022/
X-WR-CALDESC:CI101: Le Cours Analyse de Données IDEA – Niveau 1
BEGIN:VEVENT
DTSTART:20220215T083000
DTEND:20220216T163000
SUMMARY:CI101: Le Cours Analyse de Données IDEA – Niveau 1
DESCRIPTION:
URL:https://www.audimation.com/training/ci101-francais-02152022/
LOCATION:Live Online | 8:30 AM Central
END:VEVENT
END:VCALENDAR
